BEGIN:VCALENDAR
VERSION:2.0
PRODID:icalendar-ruby
CALSCALE:GREGORIAN
METHOD:PUBLISH
BEGIN:VEVENT
DTSTAMP:20260424T051839Z
UID:5-405939@thedwelling.tithelysetup7.com
DTSTART:20261101T180000Z
DTEND:20261101T190000Z
CLASS:PUBLIC
CREATED:20260423T185751
DESCRIPTION:Sunday Worship
LAST-MODIFIED:20260423T185751
LOCATION:
SUMMARY:Sunday Worship
URL;VALUE=URI:https://thedwelling.tithelysetup7.com/events/sunday-worship/2
 026-11-01
END:VEVENT
END:VCALENDAR
