BEGIN:VCALENDAR
VERSION:2.0
PRODID:icalendar-ruby
CALSCALE:GREGORIAN
METHOD:PUBLISH
BEGIN:VEVENT
DTSTAMP:20260423T185156Z
UID:5-405149@thedwelling.tithelysetup7.com
DTSTART:20260913T170000Z
DTEND:20260913T180000Z
CLASS:PUBLIC
CREATED:20260423T101405
DESCRIPTION:Sunday Worship
LAST-MODIFIED:20260423T101405
LOCATION:
SUMMARY:Sunday Worship
URL;VALUE=URI:https://thedwelling.tithelysetup7.com/events/sunday-worship/2
 026-09-13
END:VEVENT
END:VCALENDAR
